BEGIN:VCALENDAR
VERSION:2.0
PRODID:-//Rubicon Programs - ECPv6.15.20//NONSGML v1.0//EN
CALSCALE:GREGORIAN
METHOD:PUBLISH
X-WR-CALNAME:Rubicon Programs
X-ORIGINAL-URL:https://rubiconprograms.org
X-WR-CALDESC:Events for Rubicon Programs
REFRESH-INTERVAL;VALUE=DURATION:PT1H
X-Robots-Tag:noindex
X-PUBLISHED-TTL:PT1H
BEGIN:VTIMEZONE
TZID:America/Los_Angeles
BEGIN:DAYLIGHT
TZOFFSETFROM:-0800
TZOFFSETTO:-0700
TZNAME:PDT
DTSTART:20250309T100000
END:DAYLIGHT
BEGIN:STANDARD
TZOFFSETFROM:-0700
TZOFFSETTO:-0800
TZNAME:PST
DTSTART:20251102T090000
END:STANDARD
BEGIN:DAYLIGHT
TZOFFSETFROM:-0800
TZOFFSETTO:-0700
TZNAME:PDT
DTSTART:20260308T100000
END:DAYLIGHT
BEGIN:STANDARD
TZOFFSETFROM:-0700
TZOFFSETTO:-0800
TZNAME:PST
DTSTART:20261101T090000
END:STANDARD
BEGIN:DAYLIGHT
TZOFFSETFROM:-0800
TZOFFSETTO:-0700
TZNAME:PDT
DTSTART:20270314T100000
END:DAYLIGHT
BEGIN:STANDARD
TZOFFSETFROM:-0700
TZOFFSETTO:-0800
TZNAME:PST
DTSTART:20271107T090000
END:STANDARD
END:VTIMEZONE
BEGIN:VEVENT
DTSTART;TZID=America/Los_Angeles:20260427T083000
DTEND;TZID=America/Los_Angeles:20260427T170000
DTSTAMP:20260425T180555
CREATED:20240418T063819Z
LAST-MODIFIED:20240418T064207Z
UID:10003412-1777278600-1777309200@rubiconprograms.org
SUMMARY:Computer Lab at Rubicon Antioch (all day)
DESCRIPTION:Open to public. No registration necessary.
URL:https://rubiconprograms.org/event/computer-lab-at-rubicon-antioch-all-day/2026-04-27/
LOCATION:Rubicon Antioch\, 418 W 4th St.\, Antioch\, CA\, 94509\, United States
CATEGORIES:Computer Lab
ATTACH;FMTTYPE=image/jpeg:https://rubiconprograms.org/wp-content/uploads/2024/04/computer-lab.jpg
END:VEVENT
BEGIN:VEVENT
DTSTART;TZID=America/Los_Angeles:20260428T083000
DTEND;TZID=America/Los_Angeles:20260428T170000
DTSTAMP:20260425T180555
CREATED:20240418T063819Z
LAST-MODIFIED:20240418T064207Z
UID:10003413-1777365000-1777395600@rubiconprograms.org
SUMMARY:Computer Lab at Rubicon Antioch (all day)
DESCRIPTION:Open to public. No registration necessary.
URL:https://rubiconprograms.org/event/computer-lab-at-rubicon-antioch-all-day/2026-04-28/
LOCATION:Rubicon Antioch\, 418 W 4th St.\, Antioch\, CA\, 94509\, United States
CATEGORIES:Computer Lab
ATTACH;FMTTYPE=image/jpeg:https://rubiconprograms.org/wp-content/uploads/2024/04/computer-lab.jpg
END:VEVENT
BEGIN:VEVENT
DTSTART;TZID=America/Los_Angeles:20260428T090000
DTEND;TZID=America/Los_Angeles:20260428T100000
DTSTAMP:20260425T180555
CREATED:20240423T202039Z
LAST-MODIFIED:20240426T224844Z
UID:10004986-1777366800-1777370400@rubiconprograms.org
SUMMARY:Virtual WIOA Orientation
DESCRIPTION:Zoom link:https://us02web.zoom.us/j/86393659567?pwd=bmhtdjJsK3BES2RDMW5OaFhqZ2lpQT09 \n\n\n\nMtg ID: 863 9365 9567  \n\n\n\nPasscode: 325357
URL:https://rubiconprograms.org/event/virtual-wioa-orientation/2026-04-28/
LOCATION:Ca
CATEGORIES:Workforce Services
END:VEVENT
BEGIN:VEVENT
DTSTART;TZID=America/Los_Angeles:20260429T083000
DTEND;TZID=America/Los_Angeles:20260429T170000
DTSTAMP:20260425T180555
CREATED:20240418T063819Z
LAST-MODIFIED:20240418T064207Z
UID:10003414-1777451400-1777482000@rubiconprograms.org
SUMMARY:Computer Lab at Rubicon Antioch (all day)
DESCRIPTION:Open to public. No registration necessary.
URL:https://rubiconprograms.org/event/computer-lab-at-rubicon-antioch-all-day/2026-04-29/
LOCATION:Rubicon Antioch\, 418 W 4th St.\, Antioch\, CA\, 94509\, United States
CATEGORIES:Computer Lab
ATTACH;FMTTYPE=image/jpeg:https://rubiconprograms.org/wp-content/uploads/2024/04/computer-lab.jpg
END:VEVENT
BEGIN:VEVENT
DTSTART;TZID=America/Los_Angeles:20260430T083000
DTEND;TZID=America/Los_Angeles:20260430T170000
DTSTAMP:20260425T180555
CREATED:20240418T063819Z
LAST-MODIFIED:20240418T064207Z
UID:10003415-1777537800-1777568400@rubiconprograms.org
SUMMARY:Computer Lab at Rubicon Antioch (all day)
DESCRIPTION:Open to public. No registration necessary.
URL:https://rubiconprograms.org/event/computer-lab-at-rubicon-antioch-all-day/2026-04-30/
LOCATION:Rubicon Antioch\, 418 W 4th St.\, Antioch\, CA\, 94509\, United States
CATEGORIES:Computer Lab
ATTACH;FMTTYPE=image/jpeg:https://rubiconprograms.org/wp-content/uploads/2024/04/computer-lab.jpg
END:VEVENT
BEGIN:VEVENT
DTSTART;TZID=America/Los_Angeles:20260430T170000
DTEND;TZID=America/Los_Angeles:20260430T190000
DTSTAMP:20260425T180555
CREATED:20240913T171418Z
LAST-MODIFIED:20240913T171721Z
UID:10004431-1777568400-1777575600@rubiconprograms.org
SUMMARY:Men’s & Women’s Support Groups at Rubicon Richmond
DESCRIPTION:Open to the Public \n\n\n\nContact Theo at theodoreh@rubiconprograms.org to register
URL:https://rubiconprograms.org/event/mens-womens-groups-at-rubicon-richmond-3/2026-04-30/
LOCATION:Rubicon Richmond\, 101 Broadway\, Richmond\, California\, United States
CATEGORIES:Support Group
END:VEVENT
END:VCALENDAR