BEGIN:VCALENDAR
VERSION:2.0
PRODID:-//Rubicon Programs - ECPv6.15.20//NONSGML v1.0//EN
CALSCALE:GREGORIAN
METHOD:PUBLISH
X-WR-CALNAME:Rubicon Programs
X-ORIGINAL-URL:https://rubiconprograms.org
X-WR-CALDESC:Events for Rubicon Programs
REFRESH-INTERVAL;VALUE=DURATION:PT1H
X-Robots-Tag:noindex
X-PUBLISHED-TTL:PT1H
BEGIN:VTIMEZONE
TZID:America/Los_Angeles
BEGIN:DAYLIGHT
TZOFFSETFROM:-0800
TZOFFSETTO:-0700
TZNAME:PDT
DTSTART:20250309T100000
END:DAYLIGHT
BEGIN:STANDARD
TZOFFSETFROM:-0700
TZOFFSETTO:-0800
TZNAME:PST
DTSTART:20251102T090000
END:STANDARD
BEGIN:DAYLIGHT
TZOFFSETFROM:-0800
TZOFFSETTO:-0700
TZNAME:PDT
DTSTART:20260308T100000
END:DAYLIGHT
BEGIN:STANDARD
TZOFFSETFROM:-0700
TZOFFSETTO:-0800
TZNAME:PST
DTSTART:20261101T090000
END:STANDARD
BEGIN:DAYLIGHT
TZOFFSETFROM:-0800
TZOFFSETTO:-0700
TZNAME:PDT
DTSTART:20270314T100000
END:DAYLIGHT
BEGIN:STANDARD
TZOFFSETFROM:-0700
TZOFFSETTO:-0800
TZNAME:PST
DTSTART:20271107T090000
END:STANDARD
END:VTIMEZONE
BEGIN:VEVENT
DTSTART;TZID=America/Los_Angeles:20260601T083000
DTEND;TZID=America/Los_Angeles:20260601T170000
DTSTAMP:20260425T205722
CREATED:20240418T063819Z
LAST-MODIFIED:20240418T064207Z
UID:10003432-1780302600-1780333200@rubiconprograms.org
SUMMARY:Computer Lab at Rubicon Antioch (all day)
DESCRIPTION:Open to public. No registration necessary.
URL:https://rubiconprograms.org/event/computer-lab-at-rubicon-antioch-all-day/2026-06-01/
LOCATION:Rubicon Antioch\, 418 W 4th St.\, Antioch\, CA\, 94509\, United States
CATEGORIES:Computer Lab
ATTACH;FMTTYPE=image/jpeg:https://rubiconprograms.org/wp-content/uploads/2024/04/computer-lab.jpg
END:VEVENT
BEGIN:VEVENT
DTSTART;TZID=America/Los_Angeles:20260602T083000
DTEND;TZID=America/Los_Angeles:20260602T170000
DTSTAMP:20260425T205722
CREATED:20240418T063819Z
LAST-MODIFIED:20240418T064207Z
UID:10003433-1780389000-1780419600@rubiconprograms.org
SUMMARY:Computer Lab at Rubicon Antioch (all day)
DESCRIPTION:Open to public. No registration necessary.
URL:https://rubiconprograms.org/event/computer-lab-at-rubicon-antioch-all-day/2026-06-02/
LOCATION:Rubicon Antioch\, 418 W 4th St.\, Antioch\, CA\, 94509\, United States
CATEGORIES:Computer Lab
ATTACH;FMTTYPE=image/jpeg:https://rubiconprograms.org/wp-content/uploads/2024/04/computer-lab.jpg
END:VEVENT
BEGIN:VEVENT
DTSTART;TZID=America/Los_Angeles:20260602T090000
DTEND;TZID=America/Los_Angeles:20260602T100000
DTSTAMP:20260425T205722
CREATED:20240423T202039Z
LAST-MODIFIED:20240426T224844Z
UID:10004991-1780390800-1780394400@rubiconprograms.org
SUMMARY:Virtual WIOA Orientation
DESCRIPTION:Zoom link:https://us02web.zoom.us/j/86393659567?pwd=bmhtdjJsK3BES2RDMW5OaFhqZ2lpQT09 \n\n\n\nMtg ID: 863 9365 9567  \n\n\n\nPasscode: 325357
URL:https://rubiconprograms.org/event/virtual-wioa-orientation/2026-06-02/
LOCATION:Ca
CATEGORIES:Workforce Services
END:VEVENT
BEGIN:VEVENT
DTSTART;TZID=America/Los_Angeles:20260603T083000
DTEND;TZID=America/Los_Angeles:20260603T170000
DTSTAMP:20260425T205722
CREATED:20240418T063819Z
LAST-MODIFIED:20240418T064207Z
UID:10003434-1780475400-1780506000@rubiconprograms.org
SUMMARY:Computer Lab at Rubicon Antioch (all day)
DESCRIPTION:Open to public. No registration necessary.
URL:https://rubiconprograms.org/event/computer-lab-at-rubicon-antioch-all-day/2026-06-03/
LOCATION:Rubicon Antioch\, 418 W 4th St.\, Antioch\, CA\, 94509\, United States
CATEGORIES:Computer Lab
ATTACH;FMTTYPE=image/jpeg:https://rubiconprograms.org/wp-content/uploads/2024/04/computer-lab.jpg
END:VEVENT
BEGIN:VEVENT
DTSTART;TZID=America/Los_Angeles:20260603T130000
DTEND;TZID=America/Los_Angeles:20260603T140000
DTSTAMP:20260425T205722
CREATED:20240423T215717Z
LAST-MODIFIED:20240426T224801Z
UID:10005288-1780491600-1780495200@rubiconprograms.org
SUMMARY:WIOA Info Session in Brentwood
DESCRIPTION:Register: (925) 335-6326
URL:https://rubiconprograms.org/event/wioa-info-session-in-brentwood/2026-06-03/
LOCATION:Liberty Adult Community Education Center\, 929 2nd St\, Brentwood\, California\, 94513\, United States
CATEGORIES:Workforce Services
END:VEVENT
BEGIN:VEVENT
DTSTART;TZID=America/Los_Angeles:20260604T083000
DTEND;TZID=America/Los_Angeles:20260604T170000
DTSTAMP:20260425T205722
CREATED:20240418T063819Z
LAST-MODIFIED:20240418T064207Z
UID:10003435-1780561800-1780592400@rubiconprograms.org
SUMMARY:Computer Lab at Rubicon Antioch (all day)
DESCRIPTION:Open to public. No registration necessary.
URL:https://rubiconprograms.org/event/computer-lab-at-rubicon-antioch-all-day/2026-06-04/
LOCATION:Rubicon Antioch\, 418 W 4th St.\, Antioch\, CA\, 94509\, United States
CATEGORIES:Computer Lab
ATTACH;FMTTYPE=image/jpeg:https://rubiconprograms.org/wp-content/uploads/2024/04/computer-lab.jpg
END:VEVENT
BEGIN:VEVENT
DTSTART;TZID=America/Los_Angeles:20260604T170000
DTEND;TZID=America/Los_Angeles:20260604T190000
DTSTAMP:20260425T205722
CREATED:20240913T171418Z
LAST-MODIFIED:20240913T171721Z
UID:10004436-1780592400-1780599600@rubiconprograms.org
SUMMARY:Men’s & Women’s Support Groups at Rubicon Richmond
DESCRIPTION:Open to the Public \n\n\n\nContact Theo at theodoreh@rubiconprograms.org to register
URL:https://rubiconprograms.org/event/mens-womens-groups-at-rubicon-richmond-3/2026-06-04/
LOCATION:Rubicon Richmond\, 101 Broadway\, Richmond\, California\, United States
CATEGORIES:Support Group
END:VEVENT
BEGIN:VEVENT
DTSTART;TZID=America/Los_Angeles:20260605T083000
DTEND;TZID=America/Los_Angeles:20260605T120000
DTSTAMP:20260425T205722
CREATED:20240418T060856Z
LAST-MODIFIED:20240418T064049Z
UID:10004169-1780648200-1780660800@rubiconprograms.org
SUMMARY:Computer Lab at Rubicon Antioch (half day)
DESCRIPTION:Open to public. No registration necessary.
URL:https://rubiconprograms.org/event/computer-lab-at-rubicon-antioch/2026-06-05/
LOCATION:Rubicon Antioch\, 418 W 4th St.\, Antioch\, CA\, 94509\, United States
CATEGORIES:Computer Lab
ATTACH;FMTTYPE=image/jpeg:https://rubiconprograms.org/wp-content/uploads/2024/04/computer-lab.jpg
END:VEVENT
BEGIN:VEVENT
DTSTART;TZID=America/Los_Angeles:20260608T083000
DTEND;TZID=America/Los_Angeles:20260608T170000
DTSTAMP:20260425T205722
CREATED:20240418T063819Z
LAST-MODIFIED:20240418T064207Z
UID:10003436-1780907400-1780938000@rubiconprograms.org
SUMMARY:Computer Lab at Rubicon Antioch (all day)
DESCRIPTION:Open to public. No registration necessary.
URL:https://rubiconprograms.org/event/computer-lab-at-rubicon-antioch-all-day/2026-06-08/
LOCATION:Rubicon Antioch\, 418 W 4th St.\, Antioch\, CA\, 94509\, United States
CATEGORIES:Computer Lab
ATTACH;FMTTYPE=image/jpeg:https://rubiconprograms.org/wp-content/uploads/2024/04/computer-lab.jpg
END:VEVENT
BEGIN:VEVENT
DTSTART;TZID=America/Los_Angeles:20260609T083000
DTEND;TZID=America/Los_Angeles:20260609T170000
DTSTAMP:20260425T205722
CREATED:20240418T063819Z
LAST-MODIFIED:20240418T064207Z
UID:10003437-1780993800-1781024400@rubiconprograms.org
SUMMARY:Computer Lab at Rubicon Antioch (all day)
DESCRIPTION:Open to public. No registration necessary.
URL:https://rubiconprograms.org/event/computer-lab-at-rubicon-antioch-all-day/2026-06-09/
LOCATION:Rubicon Antioch\, 418 W 4th St.\, Antioch\, CA\, 94509\, United States
CATEGORIES:Computer Lab
ATTACH;FMTTYPE=image/jpeg:https://rubiconprograms.org/wp-content/uploads/2024/04/computer-lab.jpg
END:VEVENT
BEGIN:VEVENT
DTSTART;TZID=America/Los_Angeles:20260609T090000
DTEND;TZID=America/Los_Angeles:20260609T100000
DTSTAMP:20260425T205722
CREATED:20240423T202039Z
LAST-MODIFIED:20240426T224844Z
UID:10004992-1780995600-1780999200@rubiconprograms.org
SUMMARY:Virtual WIOA Orientation
DESCRIPTION:Zoom link:https://us02web.zoom.us/j/86393659567?pwd=bmhtdjJsK3BES2RDMW5OaFhqZ2lpQT09 \n\n\n\nMtg ID: 863 9365 9567  \n\n\n\nPasscode: 325357
URL:https://rubiconprograms.org/event/virtual-wioa-orientation/2026-06-09/
LOCATION:Ca
CATEGORIES:Workforce Services
END:VEVENT
BEGIN:VEVENT
DTSTART;TZID=America/Los_Angeles:20260609T100000
DTEND;TZID=America/Los_Angeles:20260609T110000
DTSTAMP:20260425T205722
CREATED:20240913T180330Z
LAST-MODIFIED:20240913T180331Z
UID:10000233-1780999200-1781002800@rubiconprograms.org
SUMMARY:WIOA Info Sessions at the Concord AJCC
DESCRIPTION:Learn more about the WIOA program and how we can customize our services to fit your needs and goals. This information session includes initial application and documentation assistance. \n\n\n\nWIOA can help you:• Find training programs• Pay for career training• Write a resume• Prepare for interviews• Connect to employers• …and more! \n\n\n\nThis info session will be held at:Concord AJCC4071 Port Chicago Hwy\, Ste. 250Concord\, CA 94520 \n\n\n\nRegistration is required at the following link: https://forms.gle/i9xLX4sdsT93E5by5 \n\n\n\nFor more information\, please contact Concord AJCC at 925-671-4500.
URL:https://rubiconprograms.org/event/wioa-info-sessions-at-the-concord-ajcc-2/2026-06-09/
LOCATION:Concord AJCC\, 4071 Port Chicago Hwy\, Ste. 250\, Concord\, CA\, 94520
CATEGORIES:Workforce Services
ATTACH;FMTTYPE=image/jpeg:https://rubiconprograms.org/wp-content/uploads/2024/01/WIOA_Concord_AJCC_Facebook_Event.jpg
END:VEVENT
BEGIN:VEVENT
DTSTART;TZID=America/Los_Angeles:20260610T083000
DTEND;TZID=America/Los_Angeles:20260610T170000
DTSTAMP:20260425T205722
CREATED:20240418T063819Z
LAST-MODIFIED:20240418T064207Z
UID:10003438-1781080200-1781110800@rubiconprograms.org
SUMMARY:Computer Lab at Rubicon Antioch (all day)
DESCRIPTION:Open to public. No registration necessary.
URL:https://rubiconprograms.org/event/computer-lab-at-rubicon-antioch-all-day/2026-06-10/
LOCATION:Rubicon Antioch\, 418 W 4th St.\, Antioch\, CA\, 94509\, United States
CATEGORIES:Computer Lab
ATTACH;FMTTYPE=image/jpeg:https://rubiconprograms.org/wp-content/uploads/2024/04/computer-lab.jpg
END:VEVENT
BEGIN:VEVENT
DTSTART;TZID=America/Los_Angeles:20260611T083000
DTEND;TZID=America/Los_Angeles:20260611T170000
DTSTAMP:20260425T205722
CREATED:20240418T063819Z
LAST-MODIFIED:20240418T064207Z
UID:10003439-1781166600-1781197200@rubiconprograms.org
SUMMARY:Computer Lab at Rubicon Antioch (all day)
DESCRIPTION:Open to public. No registration necessary.
URL:https://rubiconprograms.org/event/computer-lab-at-rubicon-antioch-all-day/2026-06-11/
LOCATION:Rubicon Antioch\, 418 W 4th St.\, Antioch\, CA\, 94509\, United States
CATEGORIES:Computer Lab
ATTACH;FMTTYPE=image/jpeg:https://rubiconprograms.org/wp-content/uploads/2024/04/computer-lab.jpg
END:VEVENT
BEGIN:VEVENT
DTSTART;TZID=America/Los_Angeles:20260611T100000
DTEND;TZID=America/Los_Angeles:20260611T110000
DTSTAMP:20260425T205722
CREATED:20240423T215152Z
LAST-MODIFIED:20240426T224904Z
UID:10005227-1781172000-1781175600@rubiconprograms.org
SUMMARY:WIOA Info Sessions at Rubicon Antioch
DESCRIPTION:More information: (925) 399-8990
URL:https://rubiconprograms.org/event/wioa-info-sessions-at-rubicon-antioch/2026-06-11/
LOCATION:Rubicon Antioch\, 418 W 4th St.\, Antioch\, CA\, 94509\, United States
CATEGORIES:Workforce Services
END:VEVENT
BEGIN:VEVENT
DTSTART;TZID=America/Los_Angeles:20260611T170000
DTEND;TZID=America/Los_Angeles:20260611T190000
DTSTAMP:20260425T205722
CREATED:20240913T171418Z
LAST-MODIFIED:20240913T171721Z
UID:10004437-1781197200-1781204400@rubiconprograms.org
SUMMARY:Men’s & Women’s Support Groups at Rubicon Richmond
DESCRIPTION:Open to the Public \n\n\n\nContact Theo at theodoreh@rubiconprograms.org to register
URL:https://rubiconprograms.org/event/mens-womens-groups-at-rubicon-richmond-3/2026-06-11/
LOCATION:Rubicon Richmond\, 101 Broadway\, Richmond\, California\, United States
CATEGORIES:Support Group
END:VEVENT
BEGIN:VEVENT
DTSTART;TZID=America/Los_Angeles:20260612T083000
DTEND;TZID=America/Los_Angeles:20260612T120000
DTSTAMP:20260425T205722
CREATED:20240418T060856Z
LAST-MODIFIED:20240418T064049Z
UID:10004170-1781253000-1781265600@rubiconprograms.org
SUMMARY:Computer Lab at Rubicon Antioch (half day)
DESCRIPTION:Open to public. No registration necessary.
URL:https://rubiconprograms.org/event/computer-lab-at-rubicon-antioch/2026-06-12/
LOCATION:Rubicon Antioch\, 418 W 4th St.\, Antioch\, CA\, 94509\, United States
CATEGORIES:Computer Lab
ATTACH;FMTTYPE=image/jpeg:https://rubiconprograms.org/wp-content/uploads/2024/04/computer-lab.jpg
END:VEVENT
BEGIN:VEVENT
DTSTART;TZID=America/Los_Angeles:20260615T083000
DTEND;TZID=America/Los_Angeles:20260615T170000
DTSTAMP:20260425T205722
CREATED:20240418T063819Z
LAST-MODIFIED:20240418T064207Z
UID:10003440-1781512200-1781542800@rubiconprograms.org
SUMMARY:Computer Lab at Rubicon Antioch (all day)
DESCRIPTION:Open to public. No registration necessary.
URL:https://rubiconprograms.org/event/computer-lab-at-rubicon-antioch-all-day/2026-06-15/
LOCATION:Rubicon Antioch\, 418 W 4th St.\, Antioch\, CA\, 94509\, United States
CATEGORIES:Computer Lab
ATTACH;FMTTYPE=image/jpeg:https://rubiconprograms.org/wp-content/uploads/2024/04/computer-lab.jpg
END:VEVENT
BEGIN:VEVENT
DTSTART;TZID=America/Los_Angeles:20260616T083000
DTEND;TZID=America/Los_Angeles:20260616T170000
DTSTAMP:20260425T205722
CREATED:20240418T063819Z
LAST-MODIFIED:20240418T064207Z
UID:10003441-1781598600-1781629200@rubiconprograms.org
SUMMARY:Computer Lab at Rubicon Antioch (all day)
DESCRIPTION:Open to public. No registration necessary.
URL:https://rubiconprograms.org/event/computer-lab-at-rubicon-antioch-all-day/2026-06-16/
LOCATION:Rubicon Antioch\, 418 W 4th St.\, Antioch\, CA\, 94509\, United States
CATEGORIES:Computer Lab
ATTACH;FMTTYPE=image/jpeg:https://rubiconprograms.org/wp-content/uploads/2024/04/computer-lab.jpg
END:VEVENT
BEGIN:VEVENT
DTSTART;TZID=America/Los_Angeles:20260616T090000
DTEND;TZID=America/Los_Angeles:20260616T100000
DTSTAMP:20260425T205722
CREATED:20240423T202039Z
LAST-MODIFIED:20240426T224844Z
UID:10004993-1781600400-1781604000@rubiconprograms.org
SUMMARY:Virtual WIOA Orientation
DESCRIPTION:Zoom link:https://us02web.zoom.us/j/86393659567?pwd=bmhtdjJsK3BES2RDMW5OaFhqZ2lpQT09 \n\n\n\nMtg ID: 863 9365 9567  \n\n\n\nPasscode: 325357
URL:https://rubiconprograms.org/event/virtual-wioa-orientation/2026-06-16/
LOCATION:Ca
CATEGORIES:Workforce Services
END:VEVENT
BEGIN:VEVENT
DTSTART;TZID=America/Los_Angeles:20260617T083000
DTEND;TZID=America/Los_Angeles:20260617T170000
DTSTAMP:20260425T205722
CREATED:20240418T063819Z
LAST-MODIFIED:20240418T064207Z
UID:10003442-1781685000-1781715600@rubiconprograms.org
SUMMARY:Computer Lab at Rubicon Antioch (all day)
DESCRIPTION:Open to public. No registration necessary.
URL:https://rubiconprograms.org/event/computer-lab-at-rubicon-antioch-all-day/2026-06-17/
LOCATION:Rubicon Antioch\, 418 W 4th St.\, Antioch\, CA\, 94509\, United States
CATEGORIES:Computer Lab
ATTACH;FMTTYPE=image/jpeg:https://rubiconprograms.org/wp-content/uploads/2024/04/computer-lab.jpg
END:VEVENT
BEGIN:VEVENT
DTSTART;TZID=America/Los_Angeles:20260618T083000
DTEND;TZID=America/Los_Angeles:20260618T170000
DTSTAMP:20260425T205722
CREATED:20240418T063819Z
LAST-MODIFIED:20240418T064207Z
UID:10003443-1781771400-1781802000@rubiconprograms.org
SUMMARY:Computer Lab at Rubicon Antioch (all day)
DESCRIPTION:Open to public. No registration necessary.
URL:https://rubiconprograms.org/event/computer-lab-at-rubicon-antioch-all-day/2026-06-18/
LOCATION:Rubicon Antioch\, 418 W 4th St.\, Antioch\, CA\, 94509\, United States
CATEGORIES:Computer Lab
ATTACH;FMTTYPE=image/jpeg:https://rubiconprograms.org/wp-content/uploads/2024/04/computer-lab.jpg
END:VEVENT
BEGIN:VEVENT
DTSTART;TZID=America/Los_Angeles:20260618T170000
DTEND;TZID=America/Los_Angeles:20260618T190000
DTSTAMP:20260425T205722
CREATED:20240913T171418Z
LAST-MODIFIED:20240913T171721Z
UID:10004438-1781802000-1781809200@rubiconprograms.org
SUMMARY:Men’s & Women’s Support Groups at Rubicon Richmond
DESCRIPTION:Open to the Public \n\n\n\nContact Theo at theodoreh@rubiconprograms.org to register
URL:https://rubiconprograms.org/event/mens-womens-groups-at-rubicon-richmond-3/2026-06-18/
LOCATION:Rubicon Richmond\, 101 Broadway\, Richmond\, California\, United States
CATEGORIES:Support Group
END:VEVENT
BEGIN:VEVENT
DTSTART;TZID=America/Los_Angeles:20260619T083000
DTEND;TZID=America/Los_Angeles:20260619T120000
DTSTAMP:20260425T205722
CREATED:20240418T060856Z
LAST-MODIFIED:20240418T064049Z
UID:10004171-1781857800-1781870400@rubiconprograms.org
SUMMARY:Computer Lab at Rubicon Antioch (half day)
DESCRIPTION:Open to public. No registration necessary.
URL:https://rubiconprograms.org/event/computer-lab-at-rubicon-antioch/2026-06-19/
LOCATION:Rubicon Antioch\, 418 W 4th St.\, Antioch\, CA\, 94509\, United States
CATEGORIES:Computer Lab
ATTACH;FMTTYPE=image/jpeg:https://rubiconprograms.org/wp-content/uploads/2024/04/computer-lab.jpg
END:VEVENT
BEGIN:VEVENT
DTSTART;TZID=America/Los_Angeles:20260622T083000
DTEND;TZID=America/Los_Angeles:20260622T170000
DTSTAMP:20260425T205722
CREATED:20240418T063819Z
LAST-MODIFIED:20240418T064207Z
UID:10003444-1782117000-1782147600@rubiconprograms.org
SUMMARY:Computer Lab at Rubicon Antioch (all day)
DESCRIPTION:Open to public. No registration necessary.
URL:https://rubiconprograms.org/event/computer-lab-at-rubicon-antioch-all-day/2026-06-22/
LOCATION:Rubicon Antioch\, 418 W 4th St.\, Antioch\, CA\, 94509\, United States
CATEGORIES:Computer Lab
ATTACH;FMTTYPE=image/jpeg:https://rubiconprograms.org/wp-content/uploads/2024/04/computer-lab.jpg
END:VEVENT
BEGIN:VEVENT
DTSTART;TZID=America/Los_Angeles:20260623T083000
DTEND;TZID=America/Los_Angeles:20260623T170000
DTSTAMP:20260425T205722
CREATED:20240418T063819Z
LAST-MODIFIED:20240418T064207Z
UID:10003445-1782203400-1782234000@rubiconprograms.org
SUMMARY:Computer Lab at Rubicon Antioch (all day)
DESCRIPTION:Open to public. No registration necessary.
URL:https://rubiconprograms.org/event/computer-lab-at-rubicon-antioch-all-day/2026-06-23/
LOCATION:Rubicon Antioch\, 418 W 4th St.\, Antioch\, CA\, 94509\, United States
CATEGORIES:Computer Lab
ATTACH;FMTTYPE=image/jpeg:https://rubiconprograms.org/wp-content/uploads/2024/04/computer-lab.jpg
END:VEVENT
BEGIN:VEVENT
DTSTART;TZID=America/Los_Angeles:20260623T090000
DTEND;TZID=America/Los_Angeles:20260623T100000
DTSTAMP:20260425T205722
CREATED:20240423T202039Z
LAST-MODIFIED:20240426T224844Z
UID:10004994-1782205200-1782208800@rubiconprograms.org
SUMMARY:Virtual WIOA Orientation
DESCRIPTION:Zoom link:https://us02web.zoom.us/j/86393659567?pwd=bmhtdjJsK3BES2RDMW5OaFhqZ2lpQT09 \n\n\n\nMtg ID: 863 9365 9567  \n\n\n\nPasscode: 325357
URL:https://rubiconprograms.org/event/virtual-wioa-orientation/2026-06-23/
LOCATION:Ca
CATEGORIES:Workforce Services
END:VEVENT
BEGIN:VEVENT
DTSTART;TZID=America/Los_Angeles:20260624T083000
DTEND;TZID=America/Los_Angeles:20260624T170000
DTSTAMP:20260425T205722
CREATED:20240418T063819Z
LAST-MODIFIED:20240418T064207Z
UID:10003446-1782289800-1782320400@rubiconprograms.org
SUMMARY:Computer Lab at Rubicon Antioch (all day)
DESCRIPTION:Open to public. No registration necessary.
URL:https://rubiconprograms.org/event/computer-lab-at-rubicon-antioch-all-day/2026-06-24/
LOCATION:Rubicon Antioch\, 418 W 4th St.\, Antioch\, CA\, 94509\, United States
CATEGORIES:Computer Lab
ATTACH;FMTTYPE=image/jpeg:https://rubiconprograms.org/wp-content/uploads/2024/04/computer-lab.jpg
END:VEVENT
BEGIN:VEVENT
DTSTART;TZID=America/Los_Angeles:20260625T083000
DTEND;TZID=America/Los_Angeles:20260625T170000
DTSTAMP:20260425T205722
CREATED:20240418T063819Z
LAST-MODIFIED:20240418T064207Z
UID:10003447-1782376200-1782406800@rubiconprograms.org
SUMMARY:Computer Lab at Rubicon Antioch (all day)
DESCRIPTION:Open to public. No registration necessary.
URL:https://rubiconprograms.org/event/computer-lab-at-rubicon-antioch-all-day/2026-06-25/
LOCATION:Rubicon Antioch\, 418 W 4th St.\, Antioch\, CA\, 94509\, United States
CATEGORIES:Computer Lab
ATTACH;FMTTYPE=image/jpeg:https://rubiconprograms.org/wp-content/uploads/2024/04/computer-lab.jpg
END:VEVENT
BEGIN:VEVENT
DTSTART;TZID=America/Los_Angeles:20260625T140000
DTEND;TZID=America/Los_Angeles:20260625T150000
DTSTAMP:20260425T205722
CREATED:20240423T214331Z
LAST-MODIFIED:20240426T224815Z
UID:10005168-1782396000-1782399600@rubiconprograms.org
SUMMARY:WIOA Info Sessions at CALRegional Pittsburg
DESCRIPTION:For more info: (925) 473-2400
URL:https://rubiconprograms.org/event/wioa-info-sessions-at-pittsburg/2026-06-25/
LOCATION:CALRegional Pittsburg\, 1151 Stoneman Ave.\, Pittsburg\, California\, United States
CATEGORIES:Workforce Services
END:VEVENT
END:VCALENDAR