BEGIN:VCALENDAR
VERSION:2.0
PRODID:-//Rubicon Programs - ECPv6.15.20//NONSGML v1.0//EN
CALSCALE:GREGORIAN
METHOD:PUBLISH
X-WR-CALNAME:Rubicon Programs
X-ORIGINAL-URL:https://rubiconprograms.org
X-WR-CALDESC:Events for Rubicon Programs
REFRESH-INTERVAL;VALUE=DURATION:PT1H
X-Robots-Tag:noindex
X-PUBLISHED-TTL:PT1H
BEGIN:VTIMEZONE
TZID:America/Los_Angeles
BEGIN:DAYLIGHT
TZOFFSETFROM:-0800
TZOFFSETTO:-0700
TZNAME:PDT
DTSTART:20250309T100000
END:DAYLIGHT
BEGIN:STANDARD
TZOFFSETFROM:-0700
TZOFFSETTO:-0800
TZNAME:PST
DTSTART:20251102T090000
END:STANDARD
BEGIN:DAYLIGHT
TZOFFSETFROM:-0800
TZOFFSETTO:-0700
TZNAME:PDT
DTSTART:20260308T100000
END:DAYLIGHT
BEGIN:STANDARD
TZOFFSETFROM:-0700
TZOFFSETTO:-0800
TZNAME:PST
DTSTART:20261101T090000
END:STANDARD
BEGIN:DAYLIGHT
TZOFFSETFROM:-0800
TZOFFSETTO:-0700
TZNAME:PDT
DTSTART:20270314T100000
END:DAYLIGHT
BEGIN:STANDARD
TZOFFSETFROM:-0700
TZOFFSETTO:-0800
TZNAME:PST
DTSTART:20271107T090000
END:STANDARD
END:VTIMEZONE
BEGIN:VEVENT
DTSTART;TZID=America/Los_Angeles:20260302T083000
DTEND;TZID=America/Los_Angeles:20260302T170000
DTSTAMP:20260425T202337
CREATED:20240418T063819Z
LAST-MODIFIED:20240418T064207Z
UID:10003380-1772440200-1772470800@rubiconprograms.org
SUMMARY:Computer Lab at Rubicon Antioch (all day)
DESCRIPTION:Open to public. No registration necessary.
URL:https://rubiconprograms.org/event/computer-lab-at-rubicon-antioch-all-day/2026-03-02/
LOCATION:Rubicon Antioch\, 418 W 4th St.\, Antioch\, CA\, 94509\, United States
CATEGORIES:Computer Lab
ATTACH;FMTTYPE=image/jpeg:https://rubiconprograms.org/wp-content/uploads/2024/04/computer-lab.jpg
END:VEVENT
BEGIN:VEVENT
DTSTART;TZID=America/Los_Angeles:20260303T083000
DTEND;TZID=America/Los_Angeles:20260303T170000
DTSTAMP:20260425T202337
CREATED:20240418T063819Z
LAST-MODIFIED:20240418T064207Z
UID:10003381-1772526600-1772557200@rubiconprograms.org
SUMMARY:Computer Lab at Rubicon Antioch (all day)
DESCRIPTION:Open to public. No registration necessary.
URL:https://rubiconprograms.org/event/computer-lab-at-rubicon-antioch-all-day/2026-03-03/
LOCATION:Rubicon Antioch\, 418 W 4th St.\, Antioch\, CA\, 94509\, United States
CATEGORIES:Computer Lab
ATTACH;FMTTYPE=image/jpeg:https://rubiconprograms.org/wp-content/uploads/2024/04/computer-lab.jpg
END:VEVENT
BEGIN:VEVENT
DTSTART;TZID=America/Los_Angeles:20260303T090000
DTEND;TZID=America/Los_Angeles:20260303T100000
DTSTAMP:20260425T202337
CREATED:20240423T202039Z
LAST-MODIFIED:20240426T224844Z
UID:10004978-1772528400-1772532000@rubiconprograms.org
SUMMARY:Virtual WIOA Orientation
DESCRIPTION:Zoom link:https://us02web.zoom.us/j/86393659567?pwd=bmhtdjJsK3BES2RDMW5OaFhqZ2lpQT09 \n\n\n\nMtg ID: 863 9365 9567  \n\n\n\nPasscode: 325357
URL:https://rubiconprograms.org/event/virtual-wioa-orientation/2026-03-03/
LOCATION:Ca
CATEGORIES:Workforce Services
END:VEVENT
BEGIN:VEVENT
DTSTART;TZID=America/Los_Angeles:20260304T083000
DTEND;TZID=America/Los_Angeles:20260304T170000
DTSTAMP:20260425T202337
CREATED:20240418T063819Z
LAST-MODIFIED:20240418T064207Z
UID:10003382-1772613000-1772643600@rubiconprograms.org
SUMMARY:Computer Lab at Rubicon Antioch (all day)
DESCRIPTION:Open to public. No registration necessary.
URL:https://rubiconprograms.org/event/computer-lab-at-rubicon-antioch-all-day/2026-03-04/
LOCATION:Rubicon Antioch\, 418 W 4th St.\, Antioch\, CA\, 94509\, United States
CATEGORIES:Computer Lab
ATTACH;FMTTYPE=image/jpeg:https://rubiconprograms.org/wp-content/uploads/2024/04/computer-lab.jpg
END:VEVENT
BEGIN:VEVENT
DTSTART;TZID=America/Los_Angeles:20260304T130000
DTEND;TZID=America/Los_Angeles:20260304T140000
DTSTAMP:20260425T202337
CREATED:20240423T215717Z
LAST-MODIFIED:20240426T224801Z
UID:10005285-1772629200-1772632800@rubiconprograms.org
SUMMARY:WIOA Info Session in Brentwood
DESCRIPTION:Register: (925) 335-6326
URL:https://rubiconprograms.org/event/wioa-info-session-in-brentwood/2026-03-04/
LOCATION:Liberty Adult Community Education Center\, 929 2nd St\, Brentwood\, California\, 94513\, United States
CATEGORIES:Workforce Services
END:VEVENT
BEGIN:VEVENT
DTSTART;TZID=America/Los_Angeles:20260305T083000
DTEND;TZID=America/Los_Angeles:20260305T170000
DTSTAMP:20260425T202337
CREATED:20240418T063819Z
LAST-MODIFIED:20240418T064207Z
UID:10003383-1772699400-1772730000@rubiconprograms.org
SUMMARY:Computer Lab at Rubicon Antioch (all day)
DESCRIPTION:Open to public. No registration necessary.
URL:https://rubiconprograms.org/event/computer-lab-at-rubicon-antioch-all-day/2026-03-05/
LOCATION:Rubicon Antioch\, 418 W 4th St.\, Antioch\, CA\, 94509\, United States
CATEGORIES:Computer Lab
ATTACH;FMTTYPE=image/jpeg:https://rubiconprograms.org/wp-content/uploads/2024/04/computer-lab.jpg
END:VEVENT
BEGIN:VEVENT
DTSTART;TZID=America/Los_Angeles:20260305T170000
DTEND;TZID=America/Los_Angeles:20260305T190000
DTSTAMP:20260425T202337
CREATED:20240913T171418Z
LAST-MODIFIED:20240913T171721Z
UID:10004423-1772730000-1772737200@rubiconprograms.org
SUMMARY:Men’s & Women’s Support Groups at Rubicon Richmond
DESCRIPTION:Open to the Public \n\n\n\nContact Theo at theodoreh@rubiconprograms.org to register
URL:https://rubiconprograms.org/event/mens-womens-groups-at-rubicon-richmond-3/2026-03-05/
LOCATION:Rubicon Richmond\, 101 Broadway\, Richmond\, California\, United States
CATEGORIES:Support Group
END:VEVENT
BEGIN:VEVENT
DTSTART;TZID=America/Los_Angeles:20260306T083000
DTEND;TZID=America/Los_Angeles:20260306T120000
DTSTAMP:20260425T202337
CREATED:20240418T060856Z
LAST-MODIFIED:20240418T064049Z
UID:10004156-1772785800-1772798400@rubiconprograms.org
SUMMARY:Computer Lab at Rubicon Antioch (half day)
DESCRIPTION:Open to public. No registration necessary.
URL:https://rubiconprograms.org/event/computer-lab-at-rubicon-antioch/2026-03-06/
LOCATION:Rubicon Antioch\, 418 W 4th St.\, Antioch\, CA\, 94509\, United States
CATEGORIES:Computer Lab
ATTACH;FMTTYPE=image/jpeg:https://rubiconprograms.org/wp-content/uploads/2024/04/computer-lab.jpg
END:VEVENT
BEGIN:VEVENT
DTSTART;TZID=America/Los_Angeles:20260309T083000
DTEND;TZID=America/Los_Angeles:20260309T170000
DTSTAMP:20260425T202337
CREATED:20240418T063819Z
LAST-MODIFIED:20240418T064207Z
UID:10003384-1773045000-1773075600@rubiconprograms.org
SUMMARY:Computer Lab at Rubicon Antioch (all day)
DESCRIPTION:Open to public. No registration necessary.
URL:https://rubiconprograms.org/event/computer-lab-at-rubicon-antioch-all-day/2026-03-09/
LOCATION:Rubicon Antioch\, 418 W 4th St.\, Antioch\, CA\, 94509\, United States
CATEGORIES:Computer Lab
ATTACH;FMTTYPE=image/jpeg:https://rubiconprograms.org/wp-content/uploads/2024/04/computer-lab.jpg
END:VEVENT
BEGIN:VEVENT
DTSTART;TZID=America/Los_Angeles:20260310T083000
DTEND;TZID=America/Los_Angeles:20260310T170000
DTSTAMP:20260425T202337
CREATED:20240418T063819Z
LAST-MODIFIED:20240418T064207Z
UID:10003385-1773131400-1773162000@rubiconprograms.org
SUMMARY:Computer Lab at Rubicon Antioch (all day)
DESCRIPTION:Open to public. No registration necessary.
URL:https://rubiconprograms.org/event/computer-lab-at-rubicon-antioch-all-day/2026-03-10/
LOCATION:Rubicon Antioch\, 418 W 4th St.\, Antioch\, CA\, 94509\, United States
CATEGORIES:Computer Lab
ATTACH;FMTTYPE=image/jpeg:https://rubiconprograms.org/wp-content/uploads/2024/04/computer-lab.jpg
END:VEVENT
BEGIN:VEVENT
DTSTART;TZID=America/Los_Angeles:20260310T090000
DTEND;TZID=America/Los_Angeles:20260310T100000
DTSTAMP:20260425T202337
CREATED:20240423T202039Z
LAST-MODIFIED:20240426T224844Z
UID:10004979-1773133200-1773136800@rubiconprograms.org
SUMMARY:Virtual WIOA Orientation
DESCRIPTION:Zoom link:https://us02web.zoom.us/j/86393659567?pwd=bmhtdjJsK3BES2RDMW5OaFhqZ2lpQT09 \n\n\n\nMtg ID: 863 9365 9567  \n\n\n\nPasscode: 325357
URL:https://rubiconprograms.org/event/virtual-wioa-orientation/2026-03-10/
LOCATION:Ca
CATEGORIES:Workforce Services
END:VEVENT
BEGIN:VEVENT
DTSTART;TZID=America/Los_Angeles:20260310T100000
DTEND;TZID=America/Los_Angeles:20260310T110000
DTSTAMP:20260425T202337
CREATED:20240913T180330Z
LAST-MODIFIED:20240913T180331Z
UID:10000230-1773136800-1773140400@rubiconprograms.org
SUMMARY:WIOA Info Sessions at the Concord AJCC
DESCRIPTION:Learn more about the WIOA program and how we can customize our services to fit your needs and goals. This information session includes initial application and documentation assistance. \n\n\n\nWIOA can help you:• Find training programs• Pay for career training• Write a resume• Prepare for interviews• Connect to employers• …and more! \n\n\n\nThis info session will be held at:Concord AJCC4071 Port Chicago Hwy\, Ste. 250Concord\, CA 94520 \n\n\n\nRegistration is required at the following link: https://forms.gle/i9xLX4sdsT93E5by5 \n\n\n\nFor more information\, please contact Concord AJCC at 925-671-4500.
URL:https://rubiconprograms.org/event/wioa-info-sessions-at-the-concord-ajcc-2/2026-03-10/
LOCATION:Concord AJCC\, 4071 Port Chicago Hwy\, Ste. 250\, Concord\, CA\, 94520
CATEGORIES:Workforce Services
ATTACH;FMTTYPE=image/jpeg:https://rubiconprograms.org/wp-content/uploads/2024/01/WIOA_Concord_AJCC_Facebook_Event.jpg
END:VEVENT
BEGIN:VEVENT
DTSTART;TZID=America/Los_Angeles:20260311T083000
DTEND;TZID=America/Los_Angeles:20260311T170000
DTSTAMP:20260425T202337
CREATED:20240418T063819Z
LAST-MODIFIED:20240418T064207Z
UID:10003386-1773217800-1773248400@rubiconprograms.org
SUMMARY:Computer Lab at Rubicon Antioch (all day)
DESCRIPTION:Open to public. No registration necessary.
URL:https://rubiconprograms.org/event/computer-lab-at-rubicon-antioch-all-day/2026-03-11/
LOCATION:Rubicon Antioch\, 418 W 4th St.\, Antioch\, CA\, 94509\, United States
CATEGORIES:Computer Lab
ATTACH;FMTTYPE=image/jpeg:https://rubiconprograms.org/wp-content/uploads/2024/04/computer-lab.jpg
END:VEVENT
BEGIN:VEVENT
DTSTART;TZID=America/Los_Angeles:20260312T083000
DTEND;TZID=America/Los_Angeles:20260312T170000
DTSTAMP:20260425T202337
CREATED:20240418T063819Z
LAST-MODIFIED:20240418T064207Z
UID:10003387-1773304200-1773334800@rubiconprograms.org
SUMMARY:Computer Lab at Rubicon Antioch (all day)
DESCRIPTION:Open to public. No registration necessary.
URL:https://rubiconprograms.org/event/computer-lab-at-rubicon-antioch-all-day/2026-03-12/
LOCATION:Rubicon Antioch\, 418 W 4th St.\, Antioch\, CA\, 94509\, United States
CATEGORIES:Computer Lab
ATTACH;FMTTYPE=image/jpeg:https://rubiconprograms.org/wp-content/uploads/2024/04/computer-lab.jpg
END:VEVENT
BEGIN:VEVENT
DTSTART;TZID=America/Los_Angeles:20260312T100000
DTEND;TZID=America/Los_Angeles:20260312T110000
DTSTAMP:20260425T202337
CREATED:20240423T215152Z
LAST-MODIFIED:20240426T224904Z
UID:10005224-1773309600-1773313200@rubiconprograms.org
SUMMARY:WIOA Info Sessions at Rubicon Antioch
DESCRIPTION:More information: (925) 399-8990
URL:https://rubiconprograms.org/event/wioa-info-sessions-at-rubicon-antioch/2026-03-12/
LOCATION:Rubicon Antioch\, 418 W 4th St.\, Antioch\, CA\, 94509\, United States
CATEGORIES:Workforce Services
END:VEVENT
BEGIN:VEVENT
DTSTART;TZID=America/Los_Angeles:20260312T170000
DTEND;TZID=America/Los_Angeles:20260312T190000
DTSTAMP:20260425T202337
CREATED:20240913T171418Z
LAST-MODIFIED:20240913T171721Z
UID:10004424-1773334800-1773342000@rubiconprograms.org
SUMMARY:Men’s & Women’s Support Groups at Rubicon Richmond
DESCRIPTION:Open to the Public \n\n\n\nContact Theo at theodoreh@rubiconprograms.org to register
URL:https://rubiconprograms.org/event/mens-womens-groups-at-rubicon-richmond-3/2026-03-12/
LOCATION:Rubicon Richmond\, 101 Broadway\, Richmond\, California\, United States
CATEGORIES:Support Group
END:VEVENT
BEGIN:VEVENT
DTSTART;TZID=America/Los_Angeles:20260313T083000
DTEND;TZID=America/Los_Angeles:20260313T120000
DTSTAMP:20260425T202337
CREATED:20240418T060856Z
LAST-MODIFIED:20240418T064049Z
UID:10004157-1773390600-1773403200@rubiconprograms.org
SUMMARY:Computer Lab at Rubicon Antioch (half day)
DESCRIPTION:Open to public. No registration necessary.
URL:https://rubiconprograms.org/event/computer-lab-at-rubicon-antioch/2026-03-13/
LOCATION:Rubicon Antioch\, 418 W 4th St.\, Antioch\, CA\, 94509\, United States
CATEGORIES:Computer Lab
ATTACH;FMTTYPE=image/jpeg:https://rubiconprograms.org/wp-content/uploads/2024/04/computer-lab.jpg
END:VEVENT
BEGIN:VEVENT
DTSTART;TZID=America/Los_Angeles:20260316T083000
DTEND;TZID=America/Los_Angeles:20260316T170000
DTSTAMP:20260425T202337
CREATED:20240418T063819Z
LAST-MODIFIED:20240418T064207Z
UID:10003388-1773649800-1773680400@rubiconprograms.org
SUMMARY:Computer Lab at Rubicon Antioch (all day)
DESCRIPTION:Open to public. No registration necessary.
URL:https://rubiconprograms.org/event/computer-lab-at-rubicon-antioch-all-day/2026-03-16/
LOCATION:Rubicon Antioch\, 418 W 4th St.\, Antioch\, CA\, 94509\, United States
CATEGORIES:Computer Lab
ATTACH;FMTTYPE=image/jpeg:https://rubiconprograms.org/wp-content/uploads/2024/04/computer-lab.jpg
END:VEVENT
BEGIN:VEVENT
DTSTART;TZID=America/Los_Angeles:20260317T083000
DTEND;TZID=America/Los_Angeles:20260317T170000
DTSTAMP:20260425T202337
CREATED:20240418T063819Z
LAST-MODIFIED:20240418T064207Z
UID:10003389-1773736200-1773766800@rubiconprograms.org
SUMMARY:Computer Lab at Rubicon Antioch (all day)
DESCRIPTION:Open to public. No registration necessary.
URL:https://rubiconprograms.org/event/computer-lab-at-rubicon-antioch-all-day/2026-03-17/
LOCATION:Rubicon Antioch\, 418 W 4th St.\, Antioch\, CA\, 94509\, United States
CATEGORIES:Computer Lab
ATTACH;FMTTYPE=image/jpeg:https://rubiconprograms.org/wp-content/uploads/2024/04/computer-lab.jpg
END:VEVENT
BEGIN:VEVENT
DTSTART;TZID=America/Los_Angeles:20260317T090000
DTEND;TZID=America/Los_Angeles:20260317T100000
DTSTAMP:20260425T202337
CREATED:20240423T202039Z
LAST-MODIFIED:20240426T224844Z
UID:10004980-1773738000-1773741600@rubiconprograms.org
SUMMARY:Virtual WIOA Orientation
DESCRIPTION:Zoom link:https://us02web.zoom.us/j/86393659567?pwd=bmhtdjJsK3BES2RDMW5OaFhqZ2lpQT09 \n\n\n\nMtg ID: 863 9365 9567  \n\n\n\nPasscode: 325357
URL:https://rubiconprograms.org/event/virtual-wioa-orientation/2026-03-17/
LOCATION:Ca
CATEGORIES:Workforce Services
END:VEVENT
BEGIN:VEVENT
DTSTART;TZID=America/Los_Angeles:20260318T083000
DTEND;TZID=America/Los_Angeles:20260318T170000
DTSTAMP:20260425T202337
CREATED:20240418T063819Z
LAST-MODIFIED:20240418T064207Z
UID:10003390-1773822600-1773853200@rubiconprograms.org
SUMMARY:Computer Lab at Rubicon Antioch (all day)
DESCRIPTION:Open to public. No registration necessary.
URL:https://rubiconprograms.org/event/computer-lab-at-rubicon-antioch-all-day/2026-03-18/
LOCATION:Rubicon Antioch\, 418 W 4th St.\, Antioch\, CA\, 94509\, United States
CATEGORIES:Computer Lab
ATTACH;FMTTYPE=image/jpeg:https://rubiconprograms.org/wp-content/uploads/2024/04/computer-lab.jpg
END:VEVENT
BEGIN:VEVENT
DTSTART;TZID=America/Los_Angeles:20260319T083000
DTEND;TZID=America/Los_Angeles:20260319T170000
DTSTAMP:20260425T202337
CREATED:20240418T063819Z
LAST-MODIFIED:20240418T064207Z
UID:10003391-1773909000-1773939600@rubiconprograms.org
SUMMARY:Computer Lab at Rubicon Antioch (all day)
DESCRIPTION:Open to public. No registration necessary.
URL:https://rubiconprograms.org/event/computer-lab-at-rubicon-antioch-all-day/2026-03-19/
LOCATION:Rubicon Antioch\, 418 W 4th St.\, Antioch\, CA\, 94509\, United States
CATEGORIES:Computer Lab
ATTACH;FMTTYPE=image/jpeg:https://rubiconprograms.org/wp-content/uploads/2024/04/computer-lab.jpg
END:VEVENT
BEGIN:VEVENT
DTSTART;TZID=America/Los_Angeles:20260319T170000
DTEND;TZID=America/Los_Angeles:20260319T190000
DTSTAMP:20260425T202337
CREATED:20240913T171418Z
LAST-MODIFIED:20240913T171721Z
UID:10004425-1773939600-1773946800@rubiconprograms.org
SUMMARY:Men’s & Women’s Support Groups at Rubicon Richmond
DESCRIPTION:Open to the Public \n\n\n\nContact Theo at theodoreh@rubiconprograms.org to register
URL:https://rubiconprograms.org/event/mens-womens-groups-at-rubicon-richmond-3/2026-03-19/
LOCATION:Rubicon Richmond\, 101 Broadway\, Richmond\, California\, United States
CATEGORIES:Support Group
END:VEVENT
BEGIN:VEVENT
DTSTART;TZID=America/Los_Angeles:20260320T083000
DTEND;TZID=America/Los_Angeles:20260320T120000
DTSTAMP:20260425T202337
CREATED:20240418T060856Z
LAST-MODIFIED:20240418T064049Z
UID:10004158-1773995400-1774008000@rubiconprograms.org
SUMMARY:Computer Lab at Rubicon Antioch (half day)
DESCRIPTION:Open to public. No registration necessary.
URL:https://rubiconprograms.org/event/computer-lab-at-rubicon-antioch/2026-03-20/
LOCATION:Rubicon Antioch\, 418 W 4th St.\, Antioch\, CA\, 94509\, United States
CATEGORIES:Computer Lab
ATTACH;FMTTYPE=image/jpeg:https://rubiconprograms.org/wp-content/uploads/2024/04/computer-lab.jpg
END:VEVENT
BEGIN:VEVENT
DTSTART;TZID=America/Los_Angeles:20260323T083000
DTEND;TZID=America/Los_Angeles:20260323T170000
DTSTAMP:20260425T202337
CREATED:20240418T063819Z
LAST-MODIFIED:20240418T064207Z
UID:10003392-1774254600-1774285200@rubiconprograms.org
SUMMARY:Computer Lab at Rubicon Antioch (all day)
DESCRIPTION:Open to public. No registration necessary.
URL:https://rubiconprograms.org/event/computer-lab-at-rubicon-antioch-all-day/2026-03-23/
LOCATION:Rubicon Antioch\, 418 W 4th St.\, Antioch\, CA\, 94509\, United States
CATEGORIES:Computer Lab
ATTACH;FMTTYPE=image/jpeg:https://rubiconprograms.org/wp-content/uploads/2024/04/computer-lab.jpg
END:VEVENT
BEGIN:VEVENT
DTSTART;TZID=America/Los_Angeles:20260324T083000
DTEND;TZID=America/Los_Angeles:20260324T170000
DTSTAMP:20260425T202337
CREATED:20240418T063819Z
LAST-MODIFIED:20240418T064207Z
UID:10003393-1774341000-1774371600@rubiconprograms.org
SUMMARY:Computer Lab at Rubicon Antioch (all day)
DESCRIPTION:Open to public. No registration necessary.
URL:https://rubiconprograms.org/event/computer-lab-at-rubicon-antioch-all-day/2026-03-24/
LOCATION:Rubicon Antioch\, 418 W 4th St.\, Antioch\, CA\, 94509\, United States
CATEGORIES:Computer Lab
ATTACH;FMTTYPE=image/jpeg:https://rubiconprograms.org/wp-content/uploads/2024/04/computer-lab.jpg
END:VEVENT
BEGIN:VEVENT
DTSTART;TZID=America/Los_Angeles:20260324T090000
DTEND;TZID=America/Los_Angeles:20260324T100000
DTSTAMP:20260425T202337
CREATED:20240423T202039Z
LAST-MODIFIED:20240426T224844Z
UID:10004981-1774342800-1774346400@rubiconprograms.org
SUMMARY:Virtual WIOA Orientation
DESCRIPTION:Zoom link:https://us02web.zoom.us/j/86393659567?pwd=bmhtdjJsK3BES2RDMW5OaFhqZ2lpQT09 \n\n\n\nMtg ID: 863 9365 9567  \n\n\n\nPasscode: 325357
URL:https://rubiconprograms.org/event/virtual-wioa-orientation/2026-03-24/
LOCATION:Ca
CATEGORIES:Workforce Services
END:VEVENT
BEGIN:VEVENT
DTSTART;TZID=America/Los_Angeles:20260325T083000
DTEND;TZID=America/Los_Angeles:20260325T170000
DTSTAMP:20260425T202337
CREATED:20240418T063819Z
LAST-MODIFIED:20240418T064207Z
UID:10003394-1774427400-1774458000@rubiconprograms.org
SUMMARY:Computer Lab at Rubicon Antioch (all day)
DESCRIPTION:Open to public. No registration necessary.
URL:https://rubiconprograms.org/event/computer-lab-at-rubicon-antioch-all-day/2026-03-25/
LOCATION:Rubicon Antioch\, 418 W 4th St.\, Antioch\, CA\, 94509\, United States
CATEGORIES:Computer Lab
ATTACH;FMTTYPE=image/jpeg:https://rubiconprograms.org/wp-content/uploads/2024/04/computer-lab.jpg
END:VEVENT
BEGIN:VEVENT
DTSTART;TZID=America/Los_Angeles:20260326T083000
DTEND;TZID=America/Los_Angeles:20260326T170000
DTSTAMP:20260425T202337
CREATED:20240418T063819Z
LAST-MODIFIED:20240418T064207Z
UID:10003395-1774513800-1774544400@rubiconprograms.org
SUMMARY:Computer Lab at Rubicon Antioch (all day)
DESCRIPTION:Open to public. No registration necessary.
URL:https://rubiconprograms.org/event/computer-lab-at-rubicon-antioch-all-day/2026-03-26/
LOCATION:Rubicon Antioch\, 418 W 4th St.\, Antioch\, CA\, 94509\, United States
CATEGORIES:Computer Lab
ATTACH;FMTTYPE=image/jpeg:https://rubiconprograms.org/wp-content/uploads/2024/04/computer-lab.jpg
END:VEVENT
BEGIN:VEVENT
DTSTART;TZID=America/Los_Angeles:20260326T140000
DTEND;TZID=America/Los_Angeles:20260326T150000
DTSTAMP:20260425T202337
CREATED:20240423T214331Z
LAST-MODIFIED:20240426T224815Z
UID:10005165-1774533600-1774537200@rubiconprograms.org
SUMMARY:WIOA Info Sessions at CALRegional Pittsburg
DESCRIPTION:For more info: (925) 473-2400
URL:https://rubiconprograms.org/event/wioa-info-sessions-at-pittsburg/2026-03-26/
LOCATION:CALRegional Pittsburg\, 1151 Stoneman Ave.\, Pittsburg\, California\, United States
CATEGORIES:Workforce Services
END:VEVENT
END:VCALENDAR